BEGIN:VCALENDAR
VERSION:2.0
PRODID:-//SDI - ECPv6.15.16//NONSGML v1.0//EN
CALSCALE:GREGORIAN
METHOD:PUBLISH
X-ORIGINAL-URL:https://www.sdi.com.au/au/
X-WR-CALDESC:Events for SDI
REFRESH-INTERVAL;VALUE=DURATION:PT1H
X-Robots-Tag:noindex
X-PUBLISHED-TTL:PT1H
BEGIN:VTIMEZONE
TZID:Australia/Melbourne
BEGIN:STANDARD
TZOFFSETFROM:+1100
TZOFFSETTO:+1000
TZNAME:AEST
DTSTART:20240406T160000
END:STANDARD
BEGIN:DAYLIGHT
TZOFFSETFROM:+1000
TZOFFSETTO:+1100
TZNAME:AEDT
DTSTART:20241005T160000
END:DAYLIGHT
BEGIN:STANDARD
TZOFFSETFROM:+1100
TZOFFSETTO:+1000
TZNAME:AEST
DTSTART:20250405T160000
END:STANDARD
BEGIN:DAYLIGHT
TZOFFSETFROM:+1000
TZOFFSETTO:+1100
TZNAME:AEDT
DTSTART:20251004T160000
END:DAYLIGHT
BEGIN:STANDARD
TZOFFSETFROM:+1100
TZOFFSETTO:+1000
TZNAME:AEST
DTSTART:20260404T160000
END:STANDARD
BEGIN:DAYLIGHT
TZOFFSETFROM:+1000
TZOFFSETTO:+1100
TZNAME:AEDT
DTSTART:20261003T160000
END:DAYLIGHT
END:VTIMEZONE
BEGIN:VEVENT
DTSTART;TZID=Australia/Melbourne:20250827T183000
DTEND;TZID=Australia/Melbourne:20250827T210000
DTSTAMP:20260425T084036
CREATED:20250801T020346Z
LAST-MODIFIED:20250801T020346Z
UID:10000006-1756319400-1756328400@www.sdi.com.au
SUMMARY:Dr Sobia Zafar and Dr Manna Kohli – Silver Wave: Alternative Treatment Approaches in Paediatric and General Dentistry
DESCRIPTION:
URL:https://www.sdi.com.au/au/event/dr-sobia-zafar-and-dr-manna-kohli-silver-wave-alternative-treatment-approaches-in-paediatric-and-general-dentistry/
LOCATION:PARKROYAL\, 30 Phillip Street\, Parramatta\, NSW\, 2150\, Australia
END:VEVENT
BEGIN:VEVENT
DTSTART;TZID=Australia/Melbourne:20250305T183000
DTEND;TZID=Australia/Melbourne:20250305T210000
DTSTAMP:20260425T084036
CREATED:20250801T013522Z
LAST-MODIFIED:20250801T030603Z
UID:10000001-1741199400-1741208400@www.sdi.com.au
SUMMARY:Dr Isabel Holmes - Whiten and Restore Like a Pro
DESCRIPTION:Register Now
URL:https://www.sdi.com.au/au/event/dr-osabel-holmes-whiten-and-restore-like-a-pro/
LOCATION:PARKROYAL\, 30 Phillip Street\, Parramatta\, NSW\, 2150\, Australia
END:VEVENT
END:VCALENDAR